BEGIN:VCALENDAR
VERSION:2.0
PRODID:-//SportPlan//Event Calendar//EN
CALSCALE:GREGORIAN
BEGIN:VEVENT
UID:32d5d47a-0552-4420-aed4-1ea2e10fb0f1@sportplan.local
DTSTAMP:20260421T005901Z
DTSTART;VALUE=DATE:20260628
DTEND;VALUE=DATE:20260629
SUMMARY:Wellington Marathon 2026 – Race Info
DESCRIPTION:Official race info sub-page\; confirmed 200 OK\; start times 7:00am (marathon walk/run)\, 9:00am (half)\, 9:30am (10K)\, 9:40am (Kids Mile)\; race pack pickup Sat 27 Jun at Gazley VW\; stable sub-page
LOCATION:Wellington\, New Zealand
URL:https://sportplan.vercel.app/de/events/wellington-marathon-2026-race-info-2026-06-28
END:VEVENT
END:VCALENDAR
