BEGIN:VCALENDAR
VERSION:2.0
PRODID:-//SportPlan//Event Calendar//EN
CALSCALE:GREGORIAN
BEGIN:VEVENT
UID:76b154ff-a39f-4d54-bda3-eb10b22e058c@sportplan.local
DTSTAMP:20260421T005829Z
DTSTART;VALUE=DATE:20260502
DTEND;VALUE=DATE:20260503
SUMMARY:We Run the Night
DESCRIPTION:
LOCATION:Tauranga
URL:https://sportplan.vercel.app/de/events/we-run-the-night-tauranga-2026-05-02
END:VEVENT
END:VCALENDAR
