BEGIN:VCALENDAR
VERSION:2.0
PRODID:-//SportPlan//Event Calendar//EN
CALSCALE:GREGORIAN
BEGIN:VEVENT
UID:9594b274-4c44-4172-836e-71e85c648859@sportplan.local
DTSTAMP:20260420T204205Z
DTSTART;VALUE=DATE:20260621
DTEND;VALUE=DATE:20260622
SUMMARY:Waterford Viking Marathon
DESCRIPTION:discovered via World's Marathons sitemap and validated on direct event page\; Tier 2 underrepresented-country rotation (UK/IE)
LOCATION:Waterford\, Ireland
URL:https://sportplan.vercel.app/de/events/waterford-viking-marathon-2026-06-21
END:VEVENT
END:VCALENDAR
