BEGIN:VCALENDAR
VERSION:2.0
PRODID:-//SportPlan//Event Calendar//EN
CALSCALE:GREGORIAN
BEGIN:VEVENT
UID:c1f14765-d529-4448-96f8-23aad019217e@sportplan.local
DTSTAMP:20260420T204612Z
DTSTART;VALUE=DATE:20260927
DTEND;VALUE=DATE:20260928
SUMMARY:Warsaw Marathon 2026
DESCRIPTION:
LOCATION:Warsaw\, Masovia
URL:https://sportplan.vercel.app/de/events/warsaw-marathon-2026-warsaw-2026-09-27
END:VEVENT
END:VCALENDAR
