BEGIN:VCALENDAR
VERSION:2.0
PRODID:-//SportPlan//Event Calendar//EN
CALSCALE:GREGORIAN
BEGIN:VEVENT
UID:e78f5e5c-4d18-4106-a631-41add3015d2b@sportplan.local
DTSTAMP:20260420T204435Z
DTSTART;VALUE=DATE:20260927
DTEND;VALUE=DATE:20260928
SUMMARY:Vitality London 10\,000
DESCRIPTION:Vitality London 10\,000 is the official central London 10K on Sunday 27 September 2026. The London Marathon Events page describes a road race with landmark views across the capital and notes it is the only 10K in London to finish outside Buckingham Palace.
LOCATION:London\, United Kingdom
URL:https://sportplan.vercel.app/de/events/vitality-london-10-000-2026-09-27
END:VEVENT
END:VCALENDAR
