BEGIN:VCALENDAR
VERSION:2.0
PRODID:-//SportPlan//Event Calendar//EN
CALSCALE:GREGORIAN
BEGIN:VEVENT
UID:297ca353-2461-4b9a-a975-2acf52ab4b17@sportplan.local
DTSTAMP:20260420T181705Z
DTSTART;VALUE=DATE:20260604
DTEND;VALUE=DATE:20260605
SUMMARY:VIII Trail Tous
DESCRIPTION:VIII Trail Tous se celebra el 4 de junio de 2026 en Tous\, Valencia\, Valencia. Es una excelente opción para quienes quieren disfrutar de un evento bien organizado en este destino. La prueba recorre 20 km. Se espera un ambiente animado y una jornada memorable tanto para corredores habituales como para debutantes.
LOCATION:Tous\, Valencia\, Valencia
URL:https://sportplan.vercel.app/de/events/viii-trail-tous-tous-2026-06-04-20k
END:VEVENT
END:VCALENDAR
