BEGIN:VCALENDAR
VERSION:2.0
PRODID:-//SportPlan//Event Calendar//EN
CALSCALE:GREGORIAN
BEGIN:VEVENT
UID:b20e3bae-3d5d-4666-8802-696c30b0121f@sportplan.local
DTSTAMP:20260420T191638Z
DTSTART;VALUE=DATE:20260927
DTEND;VALUE=DATE:20260928
SUMMARY:VII Duatlo do Azinhal
DESCRIPTION:Official Federação de Triatlo de Portugal event page for the 2026 VII Duatlo do Azinhal. The federation page marks it as Campeonato Algarve e Baixo Alentejo and exposes open and age-group participation indicators on the public event page.
LOCATION:Azinhal\, Portugal
URL:https://sportplan.vercel.app/de/events/vii-duatlo-do-azinhal-2026-09-27
END:VEVENT
END:VCALENDAR
