BEGIN:VCALENDAR
VERSION:2.0
PRODID:-//SportPlan//Event Calendar//EN
CALSCALE:GREGORIAN
BEGIN:VEVENT
UID:d6ed94a7-5000-45f2-afdb-5834550b79f6@sportplan.local
DTSTAMP:20260420T161220Z
DTSTART;VALUE=DATE:20260315
DTEND;VALUE=DATE:20260316
SUMMARY:Viana Granfondo by KTM 2026
DESCRIPTION:Viana Granfondo by KTM 2026 is an official amateur road cycling granfondo in Viana do Castelo\, Portugal on 15 March 2026. The official organizer page presents three distances\, 53 km minifondo\, 99 km mediofondo and 130 km granfondo\, tracing the Alto Minho landscape between the Lima and Minho valleys\, Serra d'Arga\, coastal roads near Caminha and a finish at Praia Norte in Viana do Castelo.
LOCATION:Viana do Castelo\, Portugal
URL:https://sportplan.vercel.app/de/events/viana-granfondo-by-ktm-viana-do-castelo-2026-03-15
END:VEVENT
END:VCALENDAR
