BEGIN:VCALENDAR
VERSION:2.0
PRODID:-//SportPlan//Event Calendar//EN
CALSCALE:GREGORIAN
BEGIN:VEVENT
UID:72e1450e-eee7-4e4f-bf33-31613e8da89c@sportplan.local
DTSTAMP:20260420T204710Z
DTSTART;VALUE=DATE:20261124
DTEND;VALUE=DATE:20261125
SUMMARY:Vi CXM del Jamon de Jabugo
DESCRIPTION:Vi CXM del Jamon de Jabugo se celebrará el 24 noviembre 2026 en El Repilado\, Huelva\, Andalucía\, ofreciendo una cita ideal para quienes quieren vivir el ambiente del evento desde cerca. Con una distancia aproximada de 22 km\, es una opción atractiva tanto para participantes habituales como para quienes quieren sumar un nuevo reto en el calendario.
LOCATION:El Repilado\, Huelva\, Andalucía
URL:https://sportplan.vercel.app/de/events/vi-cxm-del-jamon-de-jabugo-el-repilado-2026-11-24-22k
END:VEVENT
END:VCALENDAR
