BEGIN:VCALENDAR
VERSION:2.0
PRODID:-//SportPlan//Event Calendar//EN
CALSCALE:GREGORIAN
BEGIN:VEVENT
UID:90b26933-3a38-45f2-8483-390c009d9cd0@sportplan.local
DTSTAMP:20260420T234434Z
DTSTART;VALUE=DATE:20260701
DTEND;VALUE=DATE:20260702
SUMMARY:Vertical Comapedrosa
DESCRIPTION:Vertical Comapedrosa aura lieu le 1 juillet 2026 à La Massana. C'est un rendez-vous intéressant pour les participants à la recherche d'une expérience sportive bien organisée et d'une ambiance motivante. Le parcours couvre environ 8 km. Consultez les informations officielles de l'événement pour connaître les horaires\, le parcours et les détails logistiques.
LOCATION:La Massana
URL:https://sportplan.vercel.app/de/events/vertical-comapedrosa-la-massana-2026-07-01-8k
END:VEVENT
END:VCALENDAR
