BEGIN:VCALENDAR
VERSION:2.0
PRODID:-//SportPlan//Event Calendar//EN
CALSCALE:GREGORIAN
BEGIN:VEVENT
UID:3337dc5f-e101-4033-9a47-60ea8f8021da@sportplan.local
DTSTAMP:20260420T191859Z
DTSTART;VALUE=DATE:20261027
DTEND;VALUE=DATE:20261028
SUMMARY:Vertical al Pico la Cruz
DESCRIPTION:Vertical al Pico la Cruz se celebrará el 27 de octubre de 2026 en Galdames\, Vizcaya\, País Vasco. Es una buena cita para quienes quieren vivir el ambiente del evento en directo y planificar la jornada con antelación. La sede prevista está a unos 6.5 km\, así que conviene revisar accesos\, horarios y servicios antes de salir.
LOCATION:Galdames\, Vizcaya\, País Vasco
URL:https://sportplan.vercel.app/de/events/vertical-al-pico-la-cruz-galdames-2026-10-27-6-5k
END:VEVENT
END:VCALENDAR
