BEGIN:VCALENDAR
VERSION:2.0
PRODID:-//SportPlan//Event Calendar//EN
CALSCALE:GREGORIAN
BEGIN:VEVENT
UID:cd02234e-ff8d-48d2-927f-04d8f2170eea@sportplan.local
DTSTAMP:20260420T203641Z
DTSTART;VALUE=DATE:20260627
DTEND;VALUE=DATE:20260628
SUMMARY:Veitscher Skytrail
DESCRIPTION:Veitscher Skytrail findet am 27. Juni 2026 in Veitsch statt und bietet eine gute Gelegenheit\, die besondere Atmosphäre der Veranstaltung vor Ort zu erleben. Dies ist sowohl für regelmäßige Teilnehmende als auch für alle interessant\, die eine neue sportliche oder gemeinschaftliche Erfahrung suchen.
LOCATION:Veitsch
URL:https://sportplan.vercel.app/de/events/veitscher-skytrail-veitsch-2026-06-27
END:VEVENT
END:VCALENDAR
