BEGIN:VCALENDAR
VERSION:2.0
PRODID:-//SportPlan//Event Calendar//EN
CALSCALE:GREGORIAN
BEGIN:VEVENT
UID:546167bd-a7fb-4e05-8f55-b1fae367d3ef@sportplan.local
DTSTAMP:20260420T204759Z
DTSTART;VALUE=DATE:20260614
DTEND;VALUE=DATE:20260615
SUMMARY:Veisiejų triatlonas 2026
DESCRIPTION:Veisiejų triatlonas 2026 is an official amateur triathlon event in Veisiejai\, Lithuania on 14 June 2026\, listed in the 2026 Lithuanian Triathlon Federation calendar. The federation calendar lists open participation formats including Olympic distance\, sprint distance\, TRI-FUN\, children’s triathlon\, and Splash and Run\, alongside Lithuanian youth cup categories.
LOCATION:Veisiejai
URL:https://sportplan.vercel.app/de/events/veisieju-triatlonas-2026-veisiejai-2026-06-14
END:VEVENT
END:VCALENDAR
