BEGIN:VCALENDAR
VERSION:2.0
PRODID:-//SportPlan//Event Calendar//EN
CALSCALE:GREGORIAN
BEGIN:VEVENT
UID:faeb1aa0-beff-44d9-a413-643d9b7bfbb6@sportplan.local
DTSTAMP:20260420T204326Z
DTSTART;VALUE=DATE:20260823
DTEND;VALUE=DATE:20260824
SUMMARY:Vattenfall Cyclassics Hamburg 2026
DESCRIPTION:Vattenfall Cyclassics Hamburg 2026 findet am 23. August 2026 in Hamburg\, Hamburg statt. Die Veranstaltung ist eine starke Wahl für alle\, die in DE eine gut organisierte Herausforderung mit motivierender Atmosphäre suchen. Mit einer Distanz von etwa 160 km bietet sie ein attraktives Sporterlebnis – sowohl für erfahrene Teilnehmende als auch für alle\, die sich ein neues Ziel setzen möchten.
LOCATION:Hamburg\, Hamburg
URL:https://sportplan.vercel.app/de/events/vattenfall-cyclassics-hamburg-2026-hamburg-2026-08-23
END:VEVENT
END:VCALENDAR
