BEGIN:VCALENDAR
VERSION:2.0
PRODID:-//SportPlan//Event Calendar//EN
CALSCALE:GREGORIAN
BEGIN:VEVENT
UID:32eb3638-78da-4c67-9a39-313d40a85c2b@sportplan.local
DTSTAMP:20260420T220443Z
DTSTART;VALUE=DATE:20260815
DTEND;VALUE=DATE:20260816
SUMMARY:Vancouver T100 – Pro Racing (Women's Event)
DESCRIPTION:T100 pro women's event Vancouver Aug 15 2026\; T100 World Series pro race\; CA triathlon variety\; BEAST SPECIAL run 2026-03-30
LOCATION:Vancouver\, BC\, Canada
URL:https://sportplan.vercel.app/de/events/vancouver-t100-pro-racing-women-s-event-2026-08-15
END:VEVENT
END:VCALENDAR
