BEGIN:VCALENDAR
VERSION:2.0
PRODID:-//SportPlan//Event Calendar//EN
CALSCALE:GREGORIAN
BEGIN:VEVENT
UID:b9b74e55-c8c3-4382-a043-e25c9c861b5f@sportplan.local
DTSTAMP:20260420T191914Z
DTSTART;VALUE=DATE:20261121
DTEND;VALUE=DATE:20261122
SUMMARY:Valle de los Perdidos Trail 25km
DESCRIPTION:Valle de los Perdidos Trail 25km se celebrará el 21 noviembre 2026 en El Bolsón\, ofreciendo una cita ideal para quienes quieren vivir el ambiente del evento desde cerca. Con una distancia aproximada de 25 km\, es una opción atractiva tanto para participantes habituales como para quienes quieren sumar un nuevo reto en el calendario.
LOCATION:El Bolsón
URL:https://sportplan.vercel.app/de/events/valle-de-los-perdidos-trail-25km-el-bolson-2026-11-21-25k
END:VEVENT
END:VCALENDAR
