BEGIN:VCALENDAR
VERSION:2.0
PRODID:-//SportPlan//Event Calendar//EN
CALSCALE:GREGORIAN
BEGIN:VEVENT
UID:e56223d0-373a-4d32-b06d-278c7d6188db@sportplan.local
DTSTAMP:20260420T161030Z
DTSTART;VALUE=DATE:20260308
DTEND;VALUE=DATE:20260309
SUMMARY:V Triatlo de Santo André
DESCRIPTION:Official Federação de Triatlo de Portugal event page for the 2026 V Triatlo de Santo André.
LOCATION:Santo André\, Setúbal\, Portugal
URL:https://sportplan.vercel.app/de/events/v-triatlo-de-santo-andre-santo-andre-2026-03-08
END:VEVENT
END:VCALENDAR
