BEGIN:VCALENDAR
VERSION:2.0
PRODID:-//SportPlan//Event Calendar//EN
CALSCALE:GREGORIAN
BEGIN:VEVENT
UID:f272159b-b64a-402f-8ff4-98f26235b2c3@sportplan.local
DTSTAMP:20260420T190911Z
DTSTART;VALUE=DATE:20260626
DTEND;VALUE=DATE:20260627
SUMMARY:UTMB Torrencial
DESCRIPTION:UTMB World Series South America\; June 26-28\, 2026\; trail running Colombia\; discovered via UTMB World races listing
LOCATION:Colombia
URL:https://sportplan.vercel.app/de/events/utmb-torrencial-2026-06-26
END:VEVENT
END:VCALENDAR
