BEGIN:VCALENDAR
VERSION:2.0
PRODID:-//SportPlan//Event Calendar//EN
CALSCALE:GREGORIAN
BEGIN:VEVENT
UID:e83cffc0-e9f1-48ae-9c01-12c0fae21fa9@sportplan.local
DTSTAMP:20260420T190920Z
DTSTART;VALUE=DATE:20260911
DTEND;VALUE=DATE:20260912
SUMMARY:UTMB Malaysia
DESCRIPTION:UTMB World Series Asia\; September 11-13\, 2026\; trail running Malaysia\; discovered via UTMB World races listing
LOCATION:Malaysia
URL:https://sportplan.vercel.app/de/events/utmb-malaysia-2026-09-11
END:VEVENT
END:VCALENDAR
