BEGIN:VCALENDAR
VERSION:2.0
PRODID:-//SportPlan//Event Calendar//EN
CALSCALE:GREGORIAN
BEGIN:VEVENT
UID:5cb7fdcd-5d9a-4109-80a2-db9254ddd8fa@sportplan.local
DTSTAMP:20260420T233746Z
DTSTART;VALUE=DATE:20260815
DTEND;VALUE=DATE:20260816
SUMMARY:Ultravasan 90 2026
DESCRIPTION:Ultravasan 90 2026 is an official amateur trail running event from Vasaloppet in Sweden on 15 August 2026. The official event page describes a 92 km ultra from Sälen to Mora on the classic Vasaloppet course\, with joint 05:00 start\, seven checkpoints and open competition participation from age 17.
LOCATION:Sälen to Mora\, Dalarna County\, Sweden
URL:https://sportplan.vercel.app/de/events/ultravasan-90-2026-2026-08-15
END:VEVENT
END:VCALENDAR
