BEGIN:VCALENDAR
VERSION:2.0
PRODID:-//SportPlan//Event Calendar//EN
CALSCALE:GREGORIAN
BEGIN:VEVENT
UID:e15edf95-7510-4837-88e7-1b01c4e27416@sportplan.local
DTSTAMP:20260420T220427Z
DTSTART;VALUE=DATE:20261114
DTEND;VALUE=DATE:20261115
SUMMARY:Ultra X Morocco – 110K Two-Day Stage Race
DESCRIPTION:110K two-day stage race sub-event of Ultra X Morocco\; Morocco TIER3 trail running expansion BEAST SPECIAL 2026-03-30
LOCATION:Ouarzazate\, Morocco
URL:https://sportplan.vercel.app/de/events/ultra-x-morocco-110k-two-day-stage-race-2026-11-14
END:VEVENT
END:VCALENDAR
