BEGIN:VCALENDAR
VERSION:2.0
PRODID:-//SportPlan//Event Calendar//EN
CALSCALE:GREGORIAN
BEGIN:VEVENT
UID:b0ef995e-8732-4702-99b2-40eb4de94c68@sportplan.local
DTSTAMP:20260420T230008Z
DTSTART;VALUE=DATE:20260912
DTEND;VALUE=DATE:20260914
SUMMARY:Ultra X England by Hystride
DESCRIPTION:Ultra X England by Hystride takes place in Castleton on September 12\, 2026\, bringing participants together for a memorable day of sport and atmosphere. Expect an enjoyable event setting\, a motivated field\, and a strong local race-day experience.
LOCATION:Castleton
URL:https://sportplan.vercel.app/de/events/ultra-x-england-by-hystride-castleton-2026-09-12
END:VEVENT
END:VCALENDAR
