BEGIN:VCALENDAR
VERSION:2.0
PRODID:-//SportPlan//Event Calendar//EN
CALSCALE:GREGORIAN
BEGIN:VEVENT
UID:aa3a0afb-d8de-47bb-9d70-d39e52e0dfc0@sportplan.local
DTSTAMP:20260420T192112Z
DTSTART;VALUE=DATE:20260901
DTEND;VALUE=DATE:20260902
SUMMARY:Ultra Trail Picos de la Demanda - Ezcaray
DESCRIPTION:Ultra Trail Picos de la Demanda - Ezcaray se celebrará el 1 de septiembre de 2026 en Ezcaray\, La Rioja\, La Rioja. Es una buena cita para participantes y acompañantes que buscan un ambiente activo y bien organizado. La distancia anunciada es de 21 km.
LOCATION:Ezcaray\, La Rioja\, La Rioja
URL:https://sportplan.vercel.app/de/events/ultra-trail-picos-de-la-demanda-ezcaray-ezcaray-2026-09-01-21k
END:VEVENT
END:VCALENDAR
