BEGIN:VCALENDAR
VERSION:2.0
PRODID:-//SportPlan//Event Calendar//EN
CALSCALE:GREGORIAN
BEGIN:VEVENT
UID:d097c66a-e4f4-446b-8d6a-22c44fe558ec@sportplan.local
DTSTAMP:20260421T011554Z
DTSTART;VALUE=DATE:20260614
DTEND;VALUE=DATE:20260615
SUMMARY:Ultra Trail du Vercors 100K 2026
DESCRIPTION:
LOCATION:Villard-de-Lans\, Isère
URL:https://sportplan.vercel.app/de/events/ultra-trail-du-vercors-100k-2026-villard-de-lans-2026-06-14
END:VEVENT
END:VCALENDAR
