BEGIN:VCALENDAR
VERSION:2.0
PRODID:-//SportPlan//Event Calendar//EN
CALSCALE:GREGORIAN
BEGIN:VEVENT
UID:e5e0cbe8-445a-4022-9e8c-20f150a61834@sportplan.local
DTSTAMP:20260420T204646Z
DTSTART;VALUE=DATE:20260627
DTEND;VALUE=DATE:20260628
SUMMARY:Ultra-Trail Drakensberg 100K 2026
DESCRIPTION:
LOCATION:Underberg\, KwaZulu-Natal
URL:https://sportplan.vercel.app/de/events/ultra-trail-drakensberg-100k-2026-underberg-2026-06-27
END:VEVENT
END:VCALENDAR
