BEGIN:VCALENDAR
VERSION:2.0
PRODID:-//SportPlan//Event Calendar//EN
CALSCALE:GREGORIAN
BEGIN:VEVENT
UID:fb69fc60-357d-457d-9584-b881fe64fc00@sportplan.local
DTSTAMP:20260420T204441Z
DTSTART;VALUE=DATE:20261121
DTEND;VALUE=DATE:20261123
SUMMARY:Ultra-Trail Cape Town 100K
DESCRIPTION:
LOCATION:Cape Town\, Western Cape
URL:https://sportplan.vercel.app/de/events/ultra-trail-cape-town-100k-cape-town-2026-11-21
END:VEVENT
END:VCALENDAR
