BEGIN:VCALENDAR
VERSION:2.0
PRODID:-//SportPlan//Event Calendar//EN
CALSCALE:GREGORIAN
BEGIN:VEVENT
UID:3a151bc1-1a55-4e45-ab07-edf7d0537da9@sportplan.local
DTSTAMP:20260420T221027Z
DTSTART;VALUE=DATE:20260628
DTEND;VALUE=DATE:20260629
SUMMARY:Ultra Trail Brasil 80K 2026
DESCRIPTION:Ultra Trail Brasil 80K 2026 acontece em 2026-06-28\, em Petrópolis\, Rio de Janeiro. É uma ótima opção para quem procura um desafio bem organizado numa distância de 80 km. O evento combina clima competitivo com uma experiência agradável para diferentes perfis de participantes.
LOCATION:Petrópolis\, Rio de Janeiro
URL:https://sportplan.vercel.app/de/events/ultra-trail-brasil-80k-2026-petr-polis-2026-06-28
END:VEVENT
END:VCALENDAR
