BEGIN:VCALENDAR
VERSION:2.0
PRODID:-//SportPlan//Event Calendar//EN
CALSCALE:GREGORIAN
BEGIN:VEVENT
UID:a30a0873-a0dd-4d61-b3bf-3a38e8ee1908@sportplan.local
DTSTAMP:20260420T234628Z
DTSTART;VALUE=DATE:20260822
DTEND;VALUE=DATE:20260823
SUMMARY:Ultra Trail Bieszczady 100K 2026
DESCRIPTION:
LOCATION:Ustrzyki Górne\, Subcarpathia
URL:https://sportplan.vercel.app/de/events/ultra-trail-bieszczady-100k-2026-ustrzyki-g-rne-2026-08-22
END:VEVENT
END:VCALENDAR
