BEGIN:VCALENDAR
VERSION:2.0
PRODID:-//SportPlan//Event Calendar//EN
CALSCALE:GREGORIAN
BEGIN:VEVENT
UID:9a54deef-2fae-4a19-9d2a-f0d5fc9ca376@sportplan.local
DTSTAMP:20260420T173939Z
DTSTART;VALUE=DATE:20260514
DTEND;VALUE=DATE:20260515
SUMMARY:Ultra-Trail Australia by UTMB
DESCRIPTION:Official event domain redirects to UTMB event page\; validated via web_fetch.
LOCATION:Katoomba\, NSW\, Australia
URL:https://sportplan.vercel.app/de/events/ultra-trail-australia-by-utmb-2026-05-14
END:VEVENT
END:VCALENDAR
