BEGIN:VCALENDAR
VERSION:2.0
PRODID:-//SportPlan//Event Calendar//EN
CALSCALE:GREGORIAN
BEGIN:VEVENT
UID:d54fe308-ffb1-4e8d-baed-46c385fec8b7@sportplan.local
DTSTAMP:20260421T001330Z
DTSTART;VALUE=DATE:20260926
DTEND;VALUE=DATE:20260927
SUMMARY:Ultra Pirineu
DESCRIPTION:Ultra Pirineu se celebrará el 26 septiembre 2026 en Bagà\, Berguedà\, ofreciendo una cita ideal para quienes buscan un reto bien organizado y un gran ambiente deportivo. Con un recorrido de 110 km\, es una buena oportunidad para marcar objetivos\, disfrutar del entorno y vivir la energía del evento de principio a fin.
LOCATION:Bagà\, Berguedà
URL:https://sportplan.vercel.app/de/events/ultra-pirineu-bag-2026-09-26
END:VEVENT
END:VCALENDAR
