BEGIN:VCALENDAR
VERSION:2.0
PRODID:-//SportPlan//Event Calendar//EN
CALSCALE:GREGORIAN
BEGIN:VEVENT
UID:1b239186-1b70-4752-b002-81286cc58a1c@sportplan.local
DTSTAMP:20260420T191805Z
DTSTART;VALUE=DATE:20260919
DTEND;VALUE=DATE:20260920
SUMMARY:Ultra Gomera Paradise
DESCRIPTION:Ultra Gomera Paradise se celebra el 19 de septiembre de 2026 en La Gomera\, Unknown. Es una cita perfecta para vivir una jornada deportiva con un recorrido pensado para corredores de distintos niveles. Ideal tanto para quienes buscan marca como para quienes quieren disfrutar del recorrido y del ambiente del evento.
LOCATION:La Gomera\, Unknown
URL:https://sportplan.vercel.app/de/events/ultra-gomera-paradise-la-gomera-2026-09-19
END:VEVENT
END:VCALENDAR
