BEGIN:VCALENDAR
VERSION:2.0
PRODID:-//SportPlan//Event Calendar//EN
CALSCALE:GREGORIAN
BEGIN:VEVENT
UID:ed9dabd1-102a-416d-9262-77b48ac2e3f0@sportplan.local
DTSTAMP:20260420T204528Z
DTSTART;VALUE=DATE:20260514
DTEND;VALUE=DATE:20260515
SUMMARY:Über Drüber Marathon
DESCRIPTION:Über Drüber Marathon findet am 14. Mai 2026 in Micheldorf in Oberoesterreich statt. Die Veranstaltung ist eine starke Wahl für alle\, die ein gut organisiertes Sporterlebnis in attraktiver Umgebung suchen. Ideal\, um die Strecke\, die Atmosphäre und einen aktiven Tag zu genießen.
LOCATION:Micheldorf in Oberoesterreich
URL:https://sportplan.vercel.app/de/events/uber-druber-marathon-micheldorf-in-oberoesterreich-2026-05-14
END:VEVENT
END:VCALENDAR
