BEGIN:VCALENDAR
VERSION:2.0
PRODID:-//SportPlan//Event Calendar//EN
CALSCALE:GREGORIAN
BEGIN:VEVENT
UID:ad4d9a81-c8f4-4a10-a9ef-004b9931328a@sportplan.local
DTSTAMP:20260420T191803Z
DTSTART;VALUE=DATE:20260523
DTEND;VALUE=DATE:20260524
SUMMARY:U.T. Moncayo
DESCRIPTION:U.T. Moncayo se celebrará el 23 mayo 2026 en Añón del Moncayo\, Zaragoza. Es una gran oportunidad para disfrutar del ambiente del evento y compartir la experiencia con otros participantes. Ideal para quienes quieren marcarse un objetivo de temporada y vivir una jornada bien organizada en un entorno especial.
LOCATION:Añón del Moncayo\, Zaragoza
URL:https://sportplan.vercel.app/de/events/u-t-moncayo-a-n-del-moncayo-2026-05-23
END:VEVENT
END:VCALENDAR
