BEGIN:VCALENDAR
VERSION:2.0
PRODID:-//SportPlan//Event Calendar//EN
CALSCALE:GREGORIAN
BEGIN:VEVENT
UID:67eea57f-5115-43aa-8757-3fece8be15ee@sportplan.local
DTSTAMP:20260420T173818Z
DTSTART;VALUE=DATE:20260425
DTEND;VALUE=DATE:20260426
SUMMARY:Tuusulanjarvi Marathon
DESCRIPTION:discovered via TimeOutdoors Finland runs directory\; Finland had only 1 existing queue entry before this run\, so it was prioritized under the underrepresented-country rule.
LOCATION:Hyrylä\, Finland
URL:https://sportplan.vercel.app/de/events/tuusulanjarvi-marathon-2026-04-25
END:VEVENT
END:VCALENDAR
