BEGIN:VCALENDAR
VERSION:2.0
PRODID:-//SportPlan//Event Calendar//EN
CALSCALE:GREGORIAN
BEGIN:VEVENT
UID:08c0cfef-ff4b-4779-b565-44e5ed6d01e1@sportplan.local
DTSTAMP:20260420T204755Z
DTSTART;VALUE=DATE:20260502
DTEND;VALUE=DATE:20260503
SUMMARY:Trikids Sant Josep 2026 — Inscripción
DESCRIPTION:Trikids Sant Josep 2026 — Inscripción se celebrará el 2/5/2026 en Sant Josep de sa Talaia\, ES\, con una distancia oficial definida por la organización. Es una gran oportunidad para disfrutar del ambiente del evento\, marcarte un objetivo deportivo y vivir una jornada activa en un entorno especial.
LOCATION:Sant Josep de sa Talaia
URL:https://sportplan.vercel.app/de/events/trikids-sant-josep-2026-inscripcion-sant-josep-de-sa-talaia-2026-05-02
END:VEVENT
END:VCALENDAR
