BEGIN:VCALENDAR
VERSION:2.0
PRODID:-//SportPlan//Event Calendar//EN
CALSCALE:GREGORIAN
BEGIN:VEVENT
UID:2c017c60-5699-4cc6-b11b-74f271539a2f@sportplan.local
DTSTAMP:20260420T192020Z
DTSTART;VALUE=DATE:20260927
DTEND;VALUE=DATE:20260928
SUMMARY:Triatlon Xterra Gringo Perdido 2026 — Triatlón Gringo Perdido
DESCRIPTION:
LOCATION:El Remate
URL:https://sportplan.vercel.app/de/events/triatlon-xterra-gringo-perdido-2026-triatlon-gringo-perdido-el-remate-2026-09-27
END:VEVENT
END:VCALENDAR
