BEGIN:VCALENDAR
VERSION:2.0
PRODID:-//SportPlan//Event Calendar//EN
CALSCALE:GREGORIAN
BEGIN:VEVENT
UID:b16896bf-dec8-49df-a97a-cf4bfeeb725f@sportplan.local
DTSTAMP:20260420T204328Z
DTSTART;VALUE=DATE:20260725
DTEND;VALUE=DATE:20260726
SUMMARY:Triatlon Cluj 2026
DESCRIPTION:Triatlon Cluj 2026 is an official amateur triathlon in Cluj-Napoca\, Romania on 25 July 2026. The Romanian Triathlon Federation lists Club Orca as organizer\, names Cluj-Napoca as the venue\, and links the organizer's official website\, making this a strong federation-source participation event in a still-thin Romanian triathlon lane.
LOCATION:Cluj-Napoca
URL:https://sportplan.vercel.app/de/events/triatlon-cluj-2026-cluj-napoca-2026-07-25
END:VEVENT
END:VCALENDAR
