BEGIN:VCALENDAR
VERSION:2.0
PRODID:-//SportPlan//Event Calendar//EN
CALSCALE:GREGORIAN
BEGIN:VEVENT
UID:1a64b570-0339-4a8e-a63a-a37d9db388d6@sportplan.local
DTSTAMP:20260420T204600Z
DTSTART;VALUE=DATE:20260704
DTEND;VALUE=DATE:20260705
SUMMARY:Triatlo de Vizela
DESCRIPTION:Official Federação de Triatlo de Portugal event page for the 2026 Triatlo de Vizela. The page explicitly marks the race as Prova Aberta.
LOCATION:Vizela\, Portugal
URL:https://sportplan.vercel.app/de/events/triatlo-de-vizela-vizela-2026-07-04
END:VEVENT
END:VCALENDAR
