BEGIN:VCALENDAR
VERSION:2.0
PRODID:-//SportPlan//Event Calendar//EN
CALSCALE:GREGORIAN
BEGIN:VEVENT
UID:50e777dc-d282-42d8-9343-39a08320a0d8@sportplan.local
DTSTAMP:20260420T191730Z
DTSTART;VALUE=DATE:20260621
DTEND;VALUE=DATE:20260622
SUMMARY:Triatló de Palma de Mallorca
DESCRIPTION:
LOCATION:Palma de Mallorca
URL:https://sportplan.vercel.app/de/events/triatl-de-palma-de-mallorca-palma-de-mallorca-2026-06-21
END:VEVENT
END:VCALENDAR
