BEGIN:VCALENDAR
VERSION:2.0
PRODID:-//SportPlan//Event Calendar//EN
CALSCALE:GREGORIAN
BEGIN:VEVENT
UID:954732cc-4983-4efd-b4e2-daf964efef75@sportplan.local
DTSTAMP:20260420T191652Z
DTSTART;VALUE=DATE:20260921
DTEND;VALUE=DATE:20260922
SUMMARY:Triathlon Super Sprint Paris 8ème
DESCRIPTION:Triathlon Super Sprint Paris 8ème aura lieu le 21 septembre 2026 à Paris. C’est un rendez-vous sportif idéal avec un parcours de 6 km dans une ambiance idéale pour profiter de la course. Une belle option pour viser un chrono solide ou simplement profiter de l’expérience et de l’ambiance de l’événement.
LOCATION:Paris
URL:https://sportplan.vercel.app/de/events/triathlon-super-sprint-paris-8eme-paris-2026-09-21
END:VEVENT
END:VCALENDAR
