BEGIN:VCALENDAR
VERSION:2.0
PRODID:-//SportPlan//Event Calendar//EN
CALSCALE:GREGORIAN
BEGIN:VEVENT
UID:9f5c5910-ad96-4f4f-8c38-3251991492b5@sportplan.local
DTSTAMP:20260420T174130Z
DTSTART;VALUE=DATE:20260502
DTEND;VALUE=DATE:20260504
SUMMARY:Triathlon Lacanau
DESCRIPTION:
LOCATION:Lacanau
URL:https://sportplan.vercel.app/de/events/triathlon-lacanau-lacanau-2026-05-02
END:VEVENT
END:VCALENDAR
