BEGIN:VCALENDAR
VERSION:2.0
PRODID:-//SportPlan//Event Calendar//EN
CALSCALE:GREGORIAN
BEGIN:VEVENT
UID:f1b9e56d-5776-4fec-861f-7c6d878ea69c@sportplan.local
DTSTAMP:20260421T010936Z
DTSTART;VALUE=DATE:20260815
DTEND;VALUE=DATE:20260816
SUMMARY:Triathlon Jura Vouglans
DESCRIPTION:Triathlon Jura Vouglans aura lieu le 15 août 2026 à La Tour-du-Meix. C'est un rendez-vous sportif idéal pour profiter d'une organisation soignée\, d'une belle ambiance et d'un parcours motivant. Avec une distance prévue de 89 km\, l'événement conviendra aussi bien aux participants réguliers qu'à celles et ceux qui veulent relever un nouveau défi.
LOCATION:La Tour-du-Meix
URL:https://sportplan.vercel.app/de/events/triathlon-jura-vouglans-la-tour-du-meix-2026-08-15
END:VEVENT
END:VCALENDAR
