BEGIN:VCALENDAR
VERSION:2.0
PRODID:-//SportPlan//Event Calendar//EN
CALSCALE:GREGORIAN
BEGIN:VEVENT
UID:6aa647cc-47f9-4070-9d47-4efa447b495b@sportplan.local
DTSTAMP:20260420T173928Z
DTSTART;VALUE=DATE:20260427
DTEND;VALUE=DATE:20260428
SUMMARY:Triathlon de Montélimar
DESCRIPTION:Triathlon de Montélimar aura lieu le 27 avril 2026 à Montélimar\, avec un parcours de 20 km. C'est un rendez-vous idéal pour les coureurs à la recherche d'une course bien organisée et d'une belle ambiance le jour de l'épreuve.
LOCATION:Montélimar
URL:https://sportplan.vercel.app/de/events/triathlon-de-montelimar-montelimar-2026-04-27
END:VEVENT
END:VCALENDAR
