BEGIN:VCALENDAR
VERSION:2.0
PRODID:-//SportPlan//Event Calendar//EN
CALSCALE:GREGORIAN
BEGIN:VEVENT
UID:776289a5-73ad-4643-a727-d61fdf77aba6@sportplan.local
DTSTAMP:20260420T192046Z
DTSTART;VALUE=DATE:20261107
DTEND;VALUE=DATE:20261108
SUMMARY:Tri del Caribe 2026 — Triatlón Sprint
DESCRIPTION:Tri del Caribe 2026 — Triatlón Sprint will take place on 2026-11-07 at Puerto Barrios. It promises a welcoming event atmosphere\, solid organization\, and an enjoyable experience to share with fellow participants. A great opportunity to add a new goal to the calendar and enjoy an active day in a memorable setting.
LOCATION:Puerto Barrios
URL:https://sportplan.vercel.app/de/events/tri-del-caribe-2026-triatlon-sprint-puerto-barrios-2026-11-07
END:VEVENT
END:VCALENDAR
