BEGIN:VCALENDAR
VERSION:2.0
PRODID:-//SportPlan//Event Calendar//EN
CALSCALE:GREGORIAN
BEGIN:VEVENT
UID:d364057c-cc52-4dbc-a131-849f2f4cb9fc@sportplan.local
DTSTAMP:20260420T204327Z
DTSTART;VALUE=DATE:20260816
DTEND;VALUE=DATE:20260817
SUMMARY:Travessa Pas de la Casa
DESCRIPTION:Travessa Pas de la Casa aura lieu le 16 août 2026 à Encamp\, Encamp. C'est un rendez-vous idéal pour les participants à la recherche d'un défi bien organisé en AD\, avec une ambiance motivante du début à la fin. L'événement combine parcours\, ambiance locale et belle occasion de profiter de la destination tout en participant.
LOCATION:Encamp\, Encamp
URL:https://sportplan.vercel.app/de/events/travessa-pas-de-la-casa-encamp-2026-08-16
END:VEVENT
END:VCALENDAR
