BEGIN:VCALENDAR
VERSION:2.0
PRODID:-//SportPlan//Event Calendar//EN
CALSCALE:GREGORIAN
BEGIN:VEVENT
UID:d59475fa-d638-413c-9419-a03883ed389c@sportplan.local
DTSTAMP:20260421T001613Z
DTSTART;VALUE=DATE:20260601
DTEND;VALUE=DATE:20260602
SUMMARY:Traveserina Picos de Europa
DESCRIPTION:Traveserina Picos de Europa se celebra el 1 de junio de 2026 en Arenas de Cabrales\, Asturias\, Asturias. Es una excelente opción para quienes quieren disfrutar de un evento bien organizado en este destino. La prueba recorre 46 km. Se espera un ambiente animado y una jornada memorable tanto para corredores habituales como para debutantes.
LOCATION:Arenas de Cabrales\, Asturias\, Asturias
URL:https://sportplan.vercel.app/de/events/traveserina-picos-de-europa-arenas-de-cabrales-2026-06-01-46k
END:VEVENT
END:VCALENDAR
