BEGIN:VCALENDAR
VERSION:2.0
PRODID:-//SportPlan//Event Calendar//EN
CALSCALE:GREGORIAN
BEGIN:VEVENT
UID:a4927ec9-ac3a-4233-ae53-c4e370e1dedf@sportplan.local
DTSTAMP:20260420T174111Z
DTSTART;VALUE=DATE:20260502
DTEND;VALUE=DATE:20260503
SUMMARY:Transvulcania Ultramarathon 2026
DESCRIPTION:Transvulcania Ultramarathon 2026 se celebrará el 2/5/2026 en Los Llanos de Aridane\, ES\, con un recorrido de 73 km. Es una gran oportunidad para disfrutar del ambiente del evento\, marcarte un objetivo deportivo y vivir una jornada activa en un entorno especial.
LOCATION:Los Llanos de Aridane
URL:https://sportplan.vercel.app/de/events/transvulcania-ultramarathon-2026-los-llanos-de-aridane-2026-05-02
END:VEVENT
END:VCALENDAR
