BEGIN:VCALENDAR
VERSION:2.0
PRODID:-//SportPlan//Event Calendar//EN
CALSCALE:GREGORIAN
BEGIN:VEVENT
UID:b9263c31-8746-48b4-b1cc-864fac60c096@sportplan.local
DTSTAMP:20260421T010652Z
DTSTART;VALUE=DATE:20260725
DTEND;VALUE=DATE:20260726
SUMMARY:Trail Volodalen du Jura
DESCRIPTION:
LOCATION:Orgelet
URL:https://sportplan.vercel.app/de/events/trail-volodalen-du-jura-orgelet-2026-07-25
END:VEVENT
END:VCALENDAR
