BEGIN:VCALENDAR
VERSION:2.0
PRODID:-//SportPlan//Event Calendar//EN
CALSCALE:GREGORIAN
BEGIN:VEVENT
UID:3a614999-7e02-4576-ac9b-1a6ea21ca121@sportplan.local
DTSTAMP:20260420T204754Z
DTSTART;VALUE=DATE:20261027
DTEND;VALUE=DATE:20261028
SUMMARY:Trail Villa de Fornes
DESCRIPTION:Trail Villa de Fornes se celebrará el 27 de octubre de 2026 en Fornes\, Granada\, Andalucía. Es una buena cita para quienes quieren vivir el ambiente del evento en directo y planificar la jornada con antelación. La sede prevista está a unos 24 km\, así que conviene revisar accesos\, horarios y servicios antes de salir.
LOCATION:Fornes\, Granada\, Andalucía
URL:https://sportplan.vercel.app/de/events/trail-villa-de-fornes-fornes-2026-10-27-24k
END:VEVENT
END:VCALENDAR
