BEGIN:VCALENDAR
VERSION:2.0
PRODID:-//SportPlan//Event Calendar//EN
CALSCALE:GREGORIAN
BEGIN:VEVENT
UID:08cd9d5a-3afd-41b9-a426-1cc7b1bf1e44@sportplan.local
DTSTAMP:20260420T191851Z
DTSTART;VALUE=DATE:20260510
DTEND;VALUE=DATE:20260511
SUMMARY:Trail Santa Bárbara
DESCRIPTION:Trail Santa Bárbara se celebra en La Puebla de Valverde\, Teruel el 10 de mayo de 2026\, reuniendo a corredores en un ambiente lleno de energía. El recorrido pone en valor el entorno natural de La Puebla de Valverde\, Teruel\, ideal para quienes disfrutan del trail y la aventura.
LOCATION:La Puebla de Valverde\, Teruel
URL:https://sportplan.vercel.app/de/events/trail-santa-b-rbara-la-puebla-de-valverde-2026-05-10
END:VEVENT
END:VCALENDAR
